BEGIN:VCALENDAR
VERSION:2.0
PRODID:-//G316 Polanco - ECPv6.15.17.1//NONSGML v1.0//EN
CALSCALE:GREGORIAN
METHOD:PUBLISH
X-WR-CALNAME:G316 Polanco
X-ORIGINAL-URL:https://eventos.g316polanco.org
X-WR-CALDESC:Eventos para G316 Polanco
REFRESH-INTERVAL;VALUE=DURATION:PT1H
X-Robots-Tag:noindex
X-PUBLISHED-TTL:PT1H
BEGIN:VTIMEZONE
TZID:America/Mexico_City
BEGIN:STANDARD
TZOFFSETFROM:-0600
TZOFFSETTO:-0600
TZNAME:CST
DTSTART:20250101T000000
END:STANDARD
END:VTIMEZONE
BEGIN:VEVENT
DTSTART;TZID=America/Mexico_City:20260321T100000
DTEND;TZID=America/Mexico_City:20260321T123000
DTSTAMP:20260420T113651
CREATED:20260217T172128Z
LAST-MODIFIED:20260318T225154Z
UID:80-1774087200-1774096200@eventos.g316polanco.org
SUMMARY:Aliyah — Reunión Mujeres
DESCRIPTION:Te invitamos a unirte a nuestra próxima reunión de ALIYAH\, un espacio creado para pausar\, reflexionar y avanzar con intención en tu caminar con Dios. En esta sesión conversaremos sobre el tema: \n📖 “De estación\, en estación con un corazón renovado” Hebreos 12:1\, Filipenses 3:13–14. \nJuntas reflexionaremos sobre las cargas que es tiempo de soltar\, los ciclos que se cierran y la invitación de Dios a avanzar con fe\, libertad y propósito. \n✍🏼 Trae tu Biblia y una pluma — será un tiempo para escribir\, marcar\, orar y escuchar con el corazón abierto. \nSi anhelas caminar con más claridad\, más fe y menos cargas\, este espacio es para ti. \nALIYAH es una comunidad de mujeres que busca crecer en la fe\, formar amistades genuinas y encontrar aliento mientras profundizamos en nuestra relación con Jesús. Deseamos ver tu vida espiritual florecer: servir\, aprender y vivir el propósito que Dios tiene para ti. \n🌿 Reserva tu lugar antes del 13 de marzo.\nEl día del evento no se permitirá el acceso sin previa reservación. \n¡Nos vemos allá! 🤍
URL:https://eventos.g316polanco.org/evento/aliyah/
LOCATION:Bajío Polanco\, Alejandro Dumas 7\, Polanco\, CDMX\, 11550\, Mexico
ATTACH;FMTTYPE=image/png:https://eventos.g316polanco.org/wp-content/uploads/2026/02/ALIYAH_PLECA.png
ORGANIZER;CN="G316 Polanco":MAILTO:hola@g316polanco.org
END:VEVENT
BEGIN:VEVENT
DTSTART;TZID=America/Mexico_City:20260315T170000
DTEND;TZID=America/Mexico_City:20260315T193000
DTSTAMP:20260420T113651
CREATED:20260217T213220Z
LAST-MODIFIED:20260312T160542Z
UID:83-1773594000-1773603000@eventos.g316polanco.org
SUMMARY:DAVID la película con G316 Polanco
DESCRIPTION:Desde las canciones del corazón de su madre hasta los susurros de un Dios fiel\, la historia de David comienza en una devoción silenciosa. Cuando el gigante Goliat se levanta para aterrorizar a una nación\, un joven pastor armado solo con una honda\, unas pocas piedras y una fe inquebrantable da un paso al frente. Perseguido por el poder y guiado por un propósito\, su camino pone a prueba los límites de la lealtad\, el amor y el coraje\, culminando en una batalla que no es solo por una corona\, sino por el alma de todo un reino. \n¡Los invitamos a vivir esta poderosa historia juntos como iglesia! Te esperamos este 15 de Marzo en Cinemex Market Antara para verla en comunidad y dejar que la fe de David nos inspire y fortalezca.
URL:https://eventos.g316polanco.org/evento/david-cine/
LOCATION:Cinmex Market Antara\, Antara\, Mexico\, CDMX\, 11520\, Mexico
ATTACH;FMTTYPE=image/jpeg:https://eventos.g316polanco.org/wp-content/uploads/2026/02/David_Content-Catalogue-Key-Art_2x116x9_2.jpg
ORGANIZER;CN="G316 Polanco":MAILTO:hola@g316polanco.org
END:VEVENT
END:VCALENDAR